1.0000000000
0.0000000000
0.0000000000
-1.0000000000
710554.5000000000
4521407.5000000000
