1.0000000000
0.0000000000
0.0000000000
-1.0000000000
726157.5000000000
4528826.5000000000
