1.0000000000
0.0000000000
0.0000000000
-1.0000000000
736691.5000000000
4529165.5000000000
