1.0000000000
0.0000000000
0.0000000000
-1.0000000000
731424.5000000000
4528993.5000000000
