1.0000000000
0.0000000000
0.0000000000
-1.0000000000
731642.5000000000
4522054.5000000000
