1.0000000000
0.0000000000
0.0000000000
-1.0000000000
741958.5000000000
4529340.5000000000
