1.0000000000
0.0000000000
0.0000000000
-1.0000000000
742186.5000000000
4522400.5000000000
