1.0000000000
0.0000000000
0.0000000000
-1.0000000000
673814.5000000000
4513481.5000000000
