1.0000000000
0.0000000000
0.0000000000
-1.0000000000
668538.5000000000
4513355.5000000000
