1.0000000000
0.0000000000
0.0000000000
-1.0000000000
673977.5000000000
4506543.5000000000
