1.0000000000
0.0000000000
0.0000000000
-1.0000000000
679091.5000000000
4513611.5000000000
