1.0000000000
0.0000000000
0.0000000000
-1.0000000000
684541.5000000000
4506806.5000000000
