1.0000000000
0.0000000000
0.0000000000
-1.0000000000
694921.5000000000
4514023.5000000000
