1.0000000000
0.0000000000
0.0000000000
-1.0000000000
695104.5000000000
4507084.5000000000
