1.0000000000
0.0000000000
0.0000000000
-1.0000000000
689822.5000000000
4506943.5000000000
