1.0000000000
0.0000000000
0.0000000000
-1.0000000000
700198.5000000000
4514168.5000000000
