1.0000000000
0.0000000000
0.0000000000
-1.0000000000
705668.5000000000
4507377.5000000000
