1.0000000000
0.0000000000
0.0000000000
-1.0000000000
700386.5000000000
4507229.5000000000
