1.0000000000
0.0000000000
0.0000000000
-1.0000000000
716231.5000000000
4507686.5000000000
