1.0000000000
0.0000000000
0.0000000000
-1.0000000000
710949.5000000000
4507530.5000000000
