1.0000000000
0.0000000000
0.0000000000
-1.0000000000
726583.5000000000
4514948.5000000000
