1.0000000000
0.0000000000
0.0000000000
-1.0000000000
726795.5000000000
4508009.5000000000
