1.0000000000
0.0000000000
0.0000000000
-1.0000000000
731860.5000000000
4515115.5000000000
