1.0000000000
0.0000000000
0.0000000000
-1.0000000000
737359.5000000000
4508347.5000000000
