1.0000000000
0.0000000000
0.0000000000
-1.0000000000
732077.5000000000
4508176.5000000000
