1.0000000000
0.0000000000
0.0000000000
-1.0000000000
747691.5000000000
4515640.5000000000
