1.0000000000
0.0000000000
0.0000000000
-1.0000000000
742414.5000000000
4515461.5000000000
