1.0000000000
0.0000000000
0.0000000000
-1.0000000000
747923.5000000000
4508701.5000000000
