1.0000000000
0.0000000000
0.0000000000
-1.0000000000
742641.5000000000
4508522.5000000000
