1.0000000000
0.0000000000
0.0000000000
-1.0000000000
674140.5000000000
4499604.5000000000
