1.0000000000
0.0000000000
0.0000000000
-1.0000000000
668854.5000000000
4499478.5000000000
