1.0000000000
0.0000000000
0.0000000000
-1.0000000000
583798.5000000000
4539604.5000000000
