1.0000000000
0.0000000000
0.0000000000
-1.0000000000
583877.5000000000
4532666.5000000000
