1.0000000000
0.0000000000
0.0000000000
-1.0000000000
594311.5000000000
4539740.5000000000
