1.0000000000
0.0000000000
0.0000000000
-1.0000000000
599661.5000000000
4532875.5000000000
