1.0000000000
0.0000000000
0.0000000000
-1.0000000000
594400.5000000000
4532801.5000000000
