1.0000000000
0.0000000000
0.0000000000
-1.0000000000
604824.5000000000
4539890.5000000000
