1.0000000000
0.0000000000
0.0000000000
-1.0000000000
620593.5000000000
4540144.5000000000
