1.0000000000
0.0000000000
0.0000000000
-1.0000000000
620707.5000000000
4533206.5000000000
