1.0000000000
0.0000000000
0.0000000000
-1.0000000000
615446.5000000000
4533117.5000000000
