1.0000000000
0.0000000000
0.0000000000
-1.0000000000
631106.5000000000
4540332.5000000000
