1.0000000000
0.0000000000
0.0000000000
-1.0000000000
625850.5000000000
4540236.5000000000
