1.0000000000
0.0000000000
0.0000000000
-1.0000000000
631231.5000000000
4533394.5000000000
