1.0000000000
0.0000000000
0.0000000000
-1.0000000000
625969.5000000000
4533298.5000000000
