1.0000000000
0.0000000000
0.0000000000
-1.0000000000
641620.5000000000
4540535.5000000000
