1.0000000000
0.0000000000
0.0000000000
-1.0000000000
641754.5000000000
4533597.5000000000
