1.0000000000
0.0000000000
0.0000000000
-1.0000000000
636492.5000000000
4533493.5000000000
