1.0000000000
0.0000000000
0.0000000000
-1.0000000000
646876.5000000000
4540643.5000000000
