1.0000000000
0.0000000000
0.0000000000
-1.0000000000
652277.5000000000
4533815.5000000000
