1.0000000000
0.0000000000
0.0000000000
-1.0000000000
647015.5000000000
4533704.5000000000
